<?xml version="1.0" encoding="UTF-8" standalone="no"?>
<metadata xml:lang="en">
<Esri>
<CreaDate>20060404</CreaDate>
<CreaTime>12511400</CreaTime>
<SyncOnce>FALSE</SyncOnce>
<SyncDate>20060904</SyncDate>
<SyncTime>12395900</SyncTime>
<ModDate>20060904</ModDate>
<ModTime>12402200</ModTime>
<DataProperties>
<lineage>
<Process Date="20060223" Name="DefineProjection_5" Time="113714" ToolSource="C:\ArcGIS\ArcToolbox\Toolboxes\Data Management Tools.tbx\DefineProjection">DefineProjection C:\temp\corilis_r05l1_c1.tif PROJCS['ETRS_1989_LAEA',GEOGCS['GCS_ETRS_1989',DATUM['D_ETRS_1989',SPHEROID['GRS_1980',6378137.0,298.257222101]],PRIMEM['Greenwich',0.0],UNIT['Degree',0.0174532925199433]],PROJECTION['Lambert_Azimuthal_Equal_Area'],PARAMETER['False_Easting',4321000.0],PARAMETER['False_Northing',3210000.0],PARAMETER['Central_Meridian',10.0],PARAMETER['Latitude_Of_Origin',52.0],UNIT['Meter',1.0]] C:\temp\corilis_r05l1_c1.tif</Process>
</lineage>
</DataProperties>
<MetaID>{1472B0E5-2F04-4143-931B-45D16D859658}</MetaID>
</Esri>
<idinfo>
<native Sync="TRUE">Microsoft Windows XP Version 5.1 (Build 2600) Service Pack 2; ESRI ArcCatalog 9.1.0.722</native>
<descript>
<langdata Sync="TRUE">ca</langdata>
<abstract>REQUIRED: A brief narrative summary of the data set.</abstract>
<purpose>REQUIRED: A summary of the intentions with which the data set was developed.</purpose>
</descript>
<citation>
<citeinfo>
<origin>REQUIRED: The name of an organization or individual that developed the data set.</origin>
<pubdate>REQUIRED: The date when the data set is published or otherwise made available for release.</pubdate>
<ftname Sync="TRUE">ebk1km1.tif</ftname>
<geoform Sync="TRUE">remote-sensing image</geoform>
<onlink Sync="TRUE">\\ETCTE23\D$\TEMP\EBK1KM\ebk1km1.tif</onlink>
<title Sync="TRUE">ebk1km1.tif</title>
</citeinfo>
</citation>
<timeperd>
<current>REQUIRED: The basis on which the time period of content information is determined.</current>
<timeinfo>
<sngdate>
<caldate>REQUIRED: The year (and optionally month, or month and day) for which the data set corresponds to the ground.</caldate>
</sngdate>
</timeinfo>
</timeperd>
<status>
<progress>REQUIRED: The state of the data set.</progress>
<update>REQUIRED: The frequency with which changes and additions are made to the data set after the initial data set is completed.</update>
</status>
<spdom>
<bounding>
<westbc Sync="TRUE">-46.614577</westbc>
<eastbc Sync="TRUE">58.700964</eastbc>
<northbc Sync="TRUE">70.926137</northbc>
<southbc Sync="TRUE">26.920478</southbc>
</bounding>
<lboundng>
<leftbc Sync="TRUE">1547000.000000</leftbc>
<rightbc Sync="TRUE">6526000.000000</rightbc>
<bottombc Sync="TRUE">941000.000000</bottombc>
<topbc Sync="TRUE">5309000.000000</topbc>
</lboundng>
</spdom>
<keywords>
<theme>
<themekt>REQUIRED: Reference to a formally registered thesaurus or a similar authoritative source of theme keywords.</themekt>
<themekey>REQUIRED: Common-use word or phrase used to describe the subject of the data set.</themekey>
</theme>
</keywords>
<accconst>REQUIRED: Restrictions and legal prerequisites for accessing the data set.</accconst>
<useconst>REQUIRED: Restrictions and legal prerequisites for using the data set after access is granted.</useconst>
<natvform Sync="TRUE">Raster Dataset</natvform>
</idinfo>
<dataIdInfo>
<envirDesc Sync="TRUE">Microsoft Windows XP Version 5.1 (Build 2600) Service Pack 2; ESRI ArcCatalog 9.1.0.722</envirDesc>
<dataLang>
<languageCode Sync="TRUE" value="ca"/>
</dataLang>
<idCitation>
<resTitle>11_3_AcidTest</resTitle>
<presForm>
<PresFormCd Sync="TRUE" value="005"/>
</presForm>
<resEd>1</resEd>
<resRefData>
<refDate>20060101</refDate>
</resRefData>
</idCitation>
<spatRpType>
<SpatRepTypCd Sync="TRUE" value="002"/>
</spatRpType>
<dataExt>
<geoEle>
<GeoBndBox esriExtentType="native">
<westBL Sync="TRUE">-46.614577</westBL>
<eastBL Sync="TRUE">58.700964</eastBL>
<northBL Sync="TRUE">70.926137</northBL>
<southBL Sync="TRUE">26.920478</southBL>
<exTypeCode Sync="TRUE">1</exTypeCode>
</GeoBndBox>
<westBL>-46,6145774033113</westBL>
<eastBL>58,7009637116078</eastBL>
<northBL>70,9261372493327</northBL>
<southBL>26,9204776121667</southBL>
</geoEle>
</dataExt>
<BrfAbsEEA>This layer defines homogeneous areas as function of height, slope and distance to the sea.</BrfAbsEEA>
<dataScale>
<equScale>
<rfDenom>250000</rfDenom>
</equScale>
<scaleDist>1000</scaleDist>
</dataScale>
<descKeys>
<keyword>LEAC</keyword>
<keyword>Mountains</keyword>
<keyword>Elevation</keyword>
</descKeys>
<tpCat>
<TopicCatCd value="007"/>
</tpCat>
<idAbs>The Elevation Breakdown is used to allocate Land Cover Changes into homogeneous areas as function of height, slope and distance to the sea. It defines five relief typologies: 1) Low coasts, 2) High Coasts, 3) Inlands, 4) Uplands and 4) Mountains. The previous enumeration corresponds to values in the grid.</idAbs>
<idPoC>
<role value="006"/>
<rpOrgName>European Topic Centre on Terrestrial Environment (ETC-TE)</rpOrgName>
<rpCntInfo>
<cntAdress>
<delPoint>Autonomous University of Barcelona (UAB), Building C - Faculty of Sciences, Torre C5-S, 4th floor</delPoint>
<city>Bellaterra</city>
<adminArea>Barcelona</adminArea>
<postCode>E-08193</postCode>
<country>Spain</country>
<eMailAdd>etcte@uab.es</eMailAdd>
</cntAdress>
</rpCntInfo>
</idPoC>
<geoBox esriExtentType="decdegrees">
<westBL Sync="TRUE">-46.614577</westBL>
<eastBL Sync="TRUE">58.700964</eastBL>
<northBL Sync="TRUE">70.926137</northBL>
<southBL Sync="TRUE">26.920478</southBL>
<exTypeCode Sync="TRUE">1</exTypeCode>
</geoBox>
<searchKeys>
<keyword>LEAC</keyword>
<keyword>Mountains</keyword>
<keyword>Elevation</keyword>
</searchKeys>
<idPurp/>
<idCredit/>
<resConst>
<Consts>
<useLimit/>
</Consts>
</resConst>
</dataIdInfo>
<metainfo>
<langmeta Sync="TRUE">ca</langmeta>
<metstdn Sync="TRUE">FGDC Content Standards for Digital Geospatial Metadata</metstdn>
<metstdv Sync="TRUE">FGDC-STD-001-1998</metstdv>
<mettc Sync="TRUE">local time</mettc>
<metc>
<cntinfo>
<cntorgp>
<cntper>REQUIRED: The person responsible for the metadata information.</cntper>
<cntorg>REQUIRED: The organization responsible for the metadata information.</cntorg>
</cntorgp>
<cntaddr>
<addrtype>REQUIRED: The mailing and/or physical address for the organization or individual.</addrtype>
<city>REQUIRED: The city of the address.</city>
<state>REQUIRED: The state or province of the address.</state>
<postal>REQUIRED: The ZIP or other postal code of the address.</postal>
</cntaddr>
<cntvoice>REQUIRED: The telephone number by which individuals can speak to the organization or individual.</cntvoice>
</cntinfo>
</metc>
<metd Sync="TRUE">20060904</metd>
<metextns>
<onlink Sync="TRUE">http://www.esri.com/metadata/esriprof80.html</onlink>
<metprof Sync="TRUE">ESRI Metadata Profile</metprof>
</metextns>
</metainfo>
<mdLang>
<languageCode Sync="TRUE" value="ca"/>
</mdLang>
<mdStanName>EEA-MSGI/ISO19115 (First Edition)</mdStanName>
<mdStanVer>1.1a</mdStanVer>
<mdChar>
<CharSetCd Sync="TRUE" value="004"/>
</mdChar>
<mdHrLv>
<ScopeCd Sync="TRUE" value="005"/>
</mdHrLv>
<mdHrLvName Sync="TRUE">dataset</mdHrLvName>
<distinfo>
<resdesc Sync="TRUE">Downloadable Data</resdesc>
<stdorder>
<digform>
<digtinfo>
<transize Sync="TRUE">0,000</transize>
<dssize Sync="TRUE">0,000</dssize>
</digtinfo>
</digform>
</stdorder>
</distinfo>
<distInfo>
<distributor>
<distorTran>
<onLineSrc>
<orDesc Sync="TRUE">002</orDesc>
<linkage Sync="TRUE">file://\\ETCTE23\D$\TEMP\EBK1KM\ebk1km1.tif</linkage>
<protocol Sync="TRUE">Local Area Network</protocol>
</onLineSrc>
<transSize Sync="TRUE">0,000</transSize>
</distorTran>
<distorFormat>
<formatName Sync="TRUE">Raster Dataset</formatName>
</distorFormat>
</distributor>
</distInfo>
<spdoinfo>
<direct Sync="TRUE">Raster</direct>
<rastinfo>
<rasttype Sync="TRUE">Pixel</rasttype>
<rowcount Sync="TRUE">4368</rowcount>
<colcount Sync="TRUE">4979</colcount>
<rastxsz Sync="TRUE">1000,000000</rastxsz>
<rastysz Sync="TRUE">1000,000000</rastysz>
<rastbpp Sync="TRUE">8</rastbpp>
<vrtcount Sync="TRUE">1</vrtcount>
<rastorig Sync="TRUE">Upper Left</rastorig>
<rastcmap Sync="TRUE">TRUE</rastcmap>
<rastcomp Sync="TRUE">LZW</rastcomp>
<rastband Sync="TRUE">1</rastband>
<rastdtyp Sync="TRUE">pixel codes</rastdtyp>
<rastplyr Sync="TRUE">TRUE</rastplyr>
<rastifor Sync="TRUE">TIFF</rastifor>
</rastinfo>
</spdoinfo>
<mdDateSt>20060904</mdDateSt>
<spatRepInfo>
<GridSpatRep>
<numDims Sync="TRUE">2</numDims>
<cellGeo>
<CellGeoCd Sync="TRUE" value="002"/>
</cellGeo>
<tranParaAv Sync="TRUE">1</tranParaAv>
<axDimProps>
<Dimen>
<dimName>
<DimNameTypCd Sync="TRUE" value="002"/>
</dimName>
<dimSize Sync="TRUE">4979</dimSize>
<dimResol>
<value Sync="TRUE">1000</value>
<uom>
<UomLength>
<uomName Sync="TRUE">Meter</uomName>
<conversionToISOstandardUnit Sync="TRUE">1 Meter = 1 Meter(s)</conversionToISOstandardUnit>
</UomLength>
</uom>
</dimResol>
</Dimen>
<Dimen>
<dimName>
<DimNameTypCd Sync="TRUE" value="001"/>
</dimName>
<dimSize Sync="TRUE">4368</dimSize>
<dimResol>
<value Sync="TRUE">1000</value>
<uom>
<UomLength>
<uomName Sync="TRUE">Meter</uomName>
<conversionToISOstandardUnit Sync="TRUE">1 Meter = 1 Meter(s)</conversionToISOstandardUnit>
</UomLength>
</uom>
</dimResol>
</Dimen>
</axDimProps>
</GridSpatRep>
</spatRepInfo>
<spref>
<horizsys>
<planar>
<planci>
<plance Sync="TRUE">row and column</plance>
<coordrep>
<absres Sync="TRUE">1000,000000</absres>
<ordres Sync="TRUE">1000,000000</ordres>
</coordrep>
<plandu Sync="TRUE">meters</plandu>
</planci>
<mapproj>
<mapprojn Sync="TRUE">Lambert Azimuthal Equal Area</mapprojn>
<lamberta>
<longpc Sync="TRUE">10.000000</longpc>
<latprjc Sync="TRUE">52.000000</latprjc>
<feast Sync="TRUE">4321000.000000</feast>
<fnorth Sync="TRUE">3210000.000000</fnorth>
</lamberta>
</mapproj>
</planar>
<cordsysn>
<geogcsn Sync="TRUE">GCS_ETRS_1989</geogcsn>
<projcsn Sync="TRUE">ETRS_1989_LAEA</projcsn>
</cordsysn>
<geodetic>
<horizdn Sync="TRUE">D_ETRS_1989</horizdn>
<ellips Sync="TRUE">Geodetic Reference System 80</ellips>
<semiaxis Sync="TRUE">6378137.000000</semiaxis>
<denflat Sync="TRUE">298.257222</denflat>
</geodetic>
</horizsys>
<vertdef>
<altsys>
<altenc Sync="TRUE">Explicit elevation coordinate included with horizontal coordinates</altenc>
<altres Sync="TRUE">1.000000</altres>
</altsys>
</vertdef>
</spref>
<mdExtInfo>
<extEleInfo>
<extEleName>EEABriefAbstract</extEleName>
<extShortName>BrfAbsEEA</extShortName>
<extEleDef>Brief narrative summary of the content of the dataset (max. 100 characters)</extEleDef>
<eleDataType value="014"/>
<extEleParEnt>Metadata/dataIdInfo/</extEleParEnt>
</extEleInfo>
<extEleInfo>
<extEleName>EEADatasetChanges</extEleName>
<extShortName>DataChgEEA</extShortName>
<extEleDef>Changes since last version of dataset</extEleDef>
<eleDataType value="014"/>
<extEleParEnt>Metadata/dqInfo/</extEleParEnt>
</extEleInfo>
</mdExtInfo>
<mdContact>
<role>
<RoleCd>007</RoleCd>
</role>
<rpOrgName>European Topic Centre on Terrestrial Environment (ETC-TE)</rpOrgName>
<rpCntInfo>
<cntAddress>
<delPoint>Autonomous University of Barcelona (UAB), Building C - Faculty of Sciences, Torre C5-S, 4th floor</delPoint>
<city>Bellaterra</city>
<adminArea>Barcelona</adminArea>
<postCode>E-08193</postCode>
<country>Spain</country>
<eMailAdd>etcte@uab.es</eMailAdd>
</cntAddress>
</rpCntInfo>
<rpIndName>Ferran Páramo</rpIndName>
</mdContact>
<dqInfo>
<dataLineage>
<statement>This version of the Elvation Breakdown was created using the LEAC 1 Km grid as reference system. Areas next to the sea (&lt;10 km from the coastline) were considered Coasts and splited in two categories: Low coasts (&lt; 50 m) and High coasts (&gt; 50 m). Inlands were the areas between 0 and 200 m outside the coastal strip. Uplands were the zones between 200 - 500 m plus the flat areas between 500 and 1000. The slopy areas between 500 and 1000 m and all the areas over 1000 m were classified as Mountains (see enclosed PDF file for further details).</statement>
</dataLineage>
<DataChgEEA>No changes were done</DataChgEEA>
</dqInfo>
<refSysInfo>
<refSysName>
<identCode>ETRS_1989_LAEA</identCode>
</refSysName>
<datum>
<identCode>D_ETRS_1989</identCode>
</datum>
<ellipsoid>
<identCode>GRS_1980</identCode>
<semiMajAx>6378137</semiMajAx>
<axisUnits>Degrees</axisUnits>
<denFlatRat>3,35281068118232E-03</denFlatRat>
</ellipsoid>
<projection>
<latProjCnt/>
<stanParal/>
<identCode>Lambert_Azimuthal_Equal_Area</identCode>
<stanParal/>
<longCntMer>10</longCntMer>
<latProjOri>52</latProjOri>
<falEastng>4321000</falEastng>
<falNorthng>3210000</falNorthng>
<falENUnits>Meter</falENUnits>
<sclFacEqu/>
<longProjCnt/>
</projection>
<RefSystem>
<refSysID>
<identCode Sync="TRUE">ETRS_1989_LAEA</identCode>
</refSysID>
</RefSystem>
</refSysInfo>
<eainfo>
<detailed Name="Band_1">
<enttyp>
<enttypl Sync="TRUE">Band_1</enttypl>
<enttypt Sync="TRUE">Table</enttypt>
<enttypc Sync="TRUE">5</enttypc>
</enttyp>
<attr>
<attrlabl Sync="TRUE">ObjectID</attrlabl>
<attalias Sync="TRUE">ObjectID</attalias>
<attrtype Sync="TRUE">OID</attrtype>
<attwidth Sync="TRUE">4</attwidth>
<atprecis Sync="TRUE">0</atprecis>
<attscale Sync="TRUE">0</attscale>
<attrdef Sync="TRUE">Internal feature number.</attrdef>
<attrdefs Sync="TRUE">ESRI</attrdefs>
<attrdomv>
<udom Sync="TRUE">Sequential unique whole numbers that are automatically generated.</udom>
</attrdomv>
</attr>
<attr>
<attrlabl Sync="TRUE">Value</attrlabl>
<attalias Sync="TRUE">Value</attalias>
<attrtype Sync="TRUE">Integer</attrtype>
<attwidth Sync="TRUE">0</attwidth>
<atprecis Sync="TRUE">0</atprecis>
<attscale Sync="TRUE">0</attscale>
</attr>
<attr>
<attrlabl Sync="TRUE">Red</attrlabl>
<attalias Sync="TRUE">Red</attalias>
<attrtype Sync="TRUE">Double</attrtype>
<attwidth Sync="TRUE">0</attwidth>
<atprecis Sync="TRUE">0</atprecis>
<attscale Sync="TRUE">0</attscale>
</attr>
<attr>
<attrlabl Sync="TRUE">Green</attrlabl>
<attalias Sync="TRUE">Green</attalias>
<attrtype Sync="TRUE">Double</attrtype>
<attwidth Sync="TRUE">0</attwidth>
<atprecis Sync="TRUE">0</atprecis>
<attscale Sync="TRUE">0</attscale>
</attr>
<attr>
<attrlabl Sync="TRUE">Blue</attrlabl>
<attalias Sync="TRUE">Blue</attalias>
<attrtype Sync="TRUE">Double</attrtype>
<attwidth Sync="TRUE">0</attwidth>
<atprecis Sync="TRUE">0</atprecis>
<attscale Sync="TRUE">0</attscale>
</attr>
<attr>
<attrlabl Sync="TRUE">Count</attrlabl>
<attalias Sync="TRUE">Count</attalias>
<attrtype Sync="TRUE">Double</attrtype>
<attwidth Sync="TRUE">0</attwidth>
<atprecis Sync="TRUE">0</atprecis>
<attscale Sync="TRUE">0</attscale>
</attr>
</detailed>
</eainfo>
<dataqual>
<lineage>
<procstep>
<procdesc Sync="TRUE">Metadata imported.</procdesc>
<srcused Sync="TRUE">C:\Temp\test_CopyRaster.TIF.xml</srcused>
<date Sync="TRUE">20060404</date>
<time Sync="TRUE">12511400</time>
</procstep>
</lineage>
</dataqual>
</metadata>
