View In:
ArcGIS JavaScript
EEA Discomap Portal
ArcGIS Earth
ArcGIS Pro
Service Description: <DIV STYLE="text-align:Left;"><DIV><DIV><P><SPAN>The map shows distribution and delineation of Marine Protected Area</SPAN><SPAN>s</SPAN><SPAN> (MPA) in EEA marine assessment areas of the EU marine waters. The marine protected areas are those established under the framework of the EU nature directives (Natura 2000), Nationally designates areas (CDDA), and the Regional Sea Conventions (RSC). The data is reported until March 2022.</SPAN></P></DIV></DIV></DIV>
Map Name: MPA in EEA marine assessment areas 2022
Legend
All Layers and Tables
Dynamic Legend
Dynamic All Layers
Layers:
Description: <DIV STYLE="text-align:Left;"><DIV><DIV><P><SPAN>The map shows distribution and delineation of Marine Protected Area</SPAN><SPAN>s</SPAN><SPAN> (MPA) in EEA marine assessment areas of the EU marine waters. The marine protected areas are those established under the framework of the EU nature directives (Natura 2000), Nationally designates areas (CDDA), and the Regional Sea Conventions (RSC). The data is reported until March 2022.</SPAN></P></DIV></DIV></DIV>
Copyright Text:
Spatial Reference:
102100
(3857)
LatestVCSWkid(0)
Single Fused Map Cache: true
Tile Info:
- Height: 256.0
- Width: 256.0
- DPI: 96.0
-
Levels of Detail: 24
-
Level ID: 1
[ Start Tile, End Tile ]
- Resolution: 78271.5169639999
- Scale: 2.95828763795777E8
-
Level ID: 2
[ Start Tile, End Tile ]
- Resolution: 39135.7584820001
- Scale: 1.47914381897889E8
-
Level ID: 3
[ Start Tile, End Tile ]
- Resolution: 19567.8792409999
- Scale: 7.3957190948944E7
-
Level ID: 4
[ Start Tile, End Tile ]
- Resolution: 9783.93962049996
- Scale: 3.6978595474472E7
-
Level ID: 5
[ Start Tile, End Tile ]
- Resolution: 4891.96981024998
- Scale: 1.8489297737236E7
- Format: MIXED
- Compression Quality: 75.0
- Origin: X: -2.0037508342787E7
Y: 2.0037508342787E7
- Spatial Reference: 102100
(3857)
LatestVCSWkid(0)
Storage Info:
- Storage Format: esriMapCacheStorageModeCompactV2
- Packet Size: 128
Initial Extent:
XMin: -7182485.834417721
YMin: 2352588.187564166
XMax: 7476863.862106463
YMax: 1.035773192892581E7
Spatial Reference: 102100
(3857)
LatestVCSWkid(0)
Full Extent:
XMin: -5670696.228098513
YMin: 2714378.64803674
XMax: 5820608.385393728
YMax: 9990721.313080221
Spatial Reference: 102100
(3857)
LatestVCSWkid(0)
Units: esriMeters
Supported Image Format Types: PNG32,PNG24,PNG,JPG,DIB,TIFF,EMF,PS,PDF,GIF,SVG,SVGZ,BMP
Document Info:
Title: Marine Protected Areas (MPA) in EEA marine assessment areas in 2021
Author:
Comments: <DIV STYLE="text-align:Left;"><DIV><DIV><P><SPAN>The map shows distribution and delineation of Marine Protected Area</SPAN><SPAN>s</SPAN><SPAN> (MPA) in EEA marine assessment areas of the EU marine waters. The marine protected areas are those established under the framework of the EU nature directives (Natura 2000), Nationally designates areas (CDDA), and the Regional Sea Conventions (RSC). The data is reported until March 2022.</SPAN></P></DIV></DIV></DIV>
Subject: The map shows Marine Protected Areas (MPA) in EEA marine assessment areas in 2021.
Category:
Keywords: marine,marine protected area,MPA,EEA marine assessment area
AntialiasingMode: Fast
TextAntialiasingMode: Force
Supports Dynamic Layers: true
MaxRecordCount: 2000
MaxSelectionCount: 2000
MaxImageHeight: 4096
MaxImageWidth: 4096
Supported Query Formats: JSON, geoJSON, PBF
Supports Query Data Elements: true
Min Scale: 7.3957190948944E7
Max Scale: 144447.638572
Min LOD: 3
Max LOD: 12
Supports Datum Transformation: true
Child Resources:
Info
Dynamic Layer
Supported Operations:
Export Map
Identify
QueryLegends
QueryDomains
Find
Return Updates